BEGIN:VCALENDAR
VERSION:2.0
PRODID:-//eventon.com NONSGML v1.0//EN
CALSCALE:GREGORIAN
METHOD:PUBLISH
BEGIN:VEVENT
UID:69e73bd00351c
DTSTAMP:20260421T085648Z
DTSTART:20230926T170000Z
DTEND:20230926T215000Z
LOCATION:
SUMMARY:les Rendez-Vous du Mardi
DESCRIPTION:les Rendez-Vous du Mardi\nhttps://www.caue53.com/events/les-ren
 dez-vous-du-mardi-7/
URL:https://www.caue53.com/events/les-rendez-vous-du-mardi-7/
END:VEVENT
END:VCALENDAR